BEGIN:VCALENDAR
VERSION:2.0
PRODID:-//Efficiency Maine - ECPv6.15.20//NONSGML v1.0//EN
CALSCALE:GREGORIAN
METHOD:PUBLISH
X-WR-CALNAME:Efficiency Maine
X-ORIGINAL-URL:https://www.efficiencymaine.com
X-WR-CALDESC:Events for Efficiency Maine
REFRESH-INTERVAL;VALUE=DURATION:PT1H
X-Robots-Tag:noindex
X-PUBLISHED-TTL:PT1H
BEGIN:VTIMEZONE
TZID:UTC
BEGIN:STANDARD
TZOFFSETFROM:+0000
TZOFFSETTO:+0000
TZNAME:UTC
DTSTART:20130101T000000
END:STANDARD
END:VTIMEZONE
BEGIN:VEVENT
DTSTART;TZID=UTC:20141002T150000
DTEND;TZID=UTC:20141002T160000
DTSTAMP:20260423T061645
CREATED:20170420T134526Z
LAST-MODIFIED:20170420T134526Z
UID:19076-1412262000-1412265600@www.efficiencymaine.com
SUMMARY:KVCC Mini-Split Heat Pump Training
DESCRIPTION:Kennebec Valley Community College is offering  a Mini-Split Heat Pump Training course October 2-4 & October 9-11.  This is a 40 hour course designed for licensed HVAC or electrical technicians  who want to further their knowledge of mini-split heating and cooling systems.  This course will also provide professionals working in the HVAC industry with further knowledge regarding the installation\, service and operation of mini-split heat pumps on the market today.This training program has been endorsed by Efficiency Maine and Energy Star heat pump manufacturers. Upon successful completion of this course\, students will receive a Certificate of Completion from KVCC certifying that they have received the Energy Star Heat Pump Installation Training required by Efficiency Maine.\nCOURSE INFORMATION \nCourse Dates:\nOct. 2\, 3 & 4\, 2014\nOct. 9\, 10 & 11\, 2014 \nCourse Tiime:\nThurs -Fri: 5pm-9pm\nSaturday: 8am-5pm  \nClick Here for more information.
URL:https://www.efficiencymaine.com/event/kvcc-mini-split-heat-pump-training/
END:VEVENT
END:VCALENDAR