BEGIN:VCALENDAR
VERSION:2.0
PRODID:-//Efficiency Maine - ECPv6.15.20//NONSGML v1.0//EN
CALSCALE:GREGORIAN
METHOD:PUBLISH
X-ORIGINAL-URL:https://www.efficiencymaine.com
X-WR-CALDESC:Events for Efficiency Maine
REFRESH-INTERVAL;VALUE=DURATION:PT1H
X-Robots-Tag:noindex
X-PUBLISHED-TTL:PT1H
BEGIN:VTIMEZONE
TZID:America/New_York
BEGIN:DAYLIGHT
TZOFFSETFROM:-0500
TZOFFSETTO:-0400
TZNAME:EDT
DTSTART:20170312T070000
END:DAYLIGHT
BEGIN:STANDARD
TZOFFSETFROM:-0400
TZOFFSETTO:-0500
TZNAME:EST
DTSTART:20171105T060000
END:STANDARD
BEGIN:DAYLIGHT
TZOFFSETFROM:-0500
TZOFFSETTO:-0400
TZNAME:EDT
DTSTART:20180311T070000
END:DAYLIGHT
BEGIN:STANDARD
TZOFFSETFROM:-0400
TZOFFSETTO:-0500
TZNAME:EST
DTSTART:20181104T060000
END:STANDARD
BEGIN:DAYLIGHT
TZOFFSETFROM:-0500
TZOFFSETTO:-0400
TZNAME:EDT
DTSTART:20190310T070000
END:DAYLIGHT
BEGIN:STANDARD
TZOFFSETFROM:-0400
TZOFFSETTO:-0500
TZNAME:EST
DTSTART:20191103T060000
END:STANDARD
END:VTIMEZONE
BEGIN:VEVENT
DTSTART;VALUE=DATE:20180317
DTEND;VALUE=DATE:20180319
DTSTAMP:20260424T050634
CREATED:20171213T205526Z
LAST-MODIFIED:20171213T205538Z
UID:20931-1521244800-1521417599@www.efficiencymaine.com
SUMMARY:Maine Home Show
DESCRIPTION:3/17/2018 – 3/18/2018\nMaine Home Show\nAndroscoggin Bank Colisée (190 Birch Street\, Lewiston\, Maine)
URL:https://www.efficiencymaine.com/event/20931/
LOCATION:Androscoggin Bank Colisee\, 190 Birch Street\, Lewiston\, ME\, United States
END:VEVENT
END:VCALENDAR