BEGIN:VCALENDAR
VERSION:2.0
PRODID:-//Efficiency Maine - ECPv6.15.20//NONSGML v1.0//EN
CALSCALE:GREGORIAN
METHOD:PUBLISH
X-WR-CALNAME:Efficiency Maine
X-ORIGINAL-URL:https://www.efficiencymaine.com
X-WR-CALDESC:Events for Efficiency Maine
REFRESH-INTERVAL;VALUE=DURATION:PT1H
X-Robots-Tag:noindex
X-PUBLISHED-TTL:PT1H
BEGIN:VTIMEZONE
TZID:America/New_York
BEGIN:DAYLIGHT
TZOFFSETFROM:-0500
TZOFFSETTO:-0400
TZNAME:EDT
DTSTART:20170312T070000
END:DAYLIGHT
BEGIN:STANDARD
TZOFFSETFROM:-0400
TZOFFSETTO:-0500
TZNAME:EST
DTSTART:20171105T060000
END:STANDARD
BEGIN:DAYLIGHT
TZOFFSETFROM:-0500
TZOFFSETTO:-0400
TZNAME:EDT
DTSTART:20180311T070000
END:DAYLIGHT
BEGIN:STANDARD
TZOFFSETFROM:-0400
TZOFFSETTO:-0500
TZNAME:EST
DTSTART:20181104T060000
END:STANDARD
BEGIN:DAYLIGHT
TZOFFSETFROM:-0500
TZOFFSETTO:-0400
TZNAME:EDT
DTSTART:20190310T070000
END:DAYLIGHT
BEGIN:STANDARD
TZOFFSETFROM:-0400
TZOFFSETTO:-0500
TZNAME:EST
DTSTART:20191103T060000
END:STANDARD
END:VTIMEZONE
BEGIN:VEVENT
DTSTART;VALUE=DATE:20180406
DTEND;VALUE=DATE:20180409
DTSTAMP:20260424T022207
CREATED:20171213T210148Z
LAST-MODIFIED:20171213T210148Z
UID:20938-1522972800-1523231999@www.efficiencymaine.com
SUMMARY:Manchester Lion's Club Home and Garden Show
DESCRIPTION:4/6/2018 – 4/8/2018\nManchester Lion’s Club Home and Garden Show\nAugusta Civic Center\, Augusta\, ME
URL:https://www.efficiencymaine.com/event/manchester-lions-club-home-garden-show/
LOCATION:Augusta Civic Center\, 76 Community Dr\, Augusta\, ME\, United States
END:VEVENT
BEGIN:VEVENT
DTSTART;VALUE=DATE:20180413
DTEND;VALUE=DATE:20180416
DTSTAMP:20260424T022207
CREATED:20171213T210319Z
LAST-MODIFIED:20171213T210319Z
UID:20940-1523577600-1523836799@www.efficiencymaine.com
SUMMARY:Portland Home Show
DESCRIPTION:4/13/2018 – 4/15/2018\nPortland Home Show\nPortland Expo\, Portland
URL:https://www.efficiencymaine.com/event/portland-home-show/
LOCATION:Portland Expo\, 239 Park Ave\, Portland\, ME\, 04101\, United States
END:VEVENT
BEGIN:VEVENT
DTSTART;TZID=America/New_York:20180425T093000
DTEND;TZID=America/New_York:20180425T120000
DTSTAMP:20260424T022207
CREATED:20180329T130711Z
LAST-MODIFIED:20180419T204215Z
UID:21711-1524648600-1524657600@www.efficiencymaine.com
SUMMARY:Efficiency Maine Trust Board Meeting
DESCRIPTION:The next meeting of the Efficiency Maine Board of Trustees will be Wednesday\, April 25\, 2018 from 9:30 a.m. to 12:00 p.m. The meeting will be held at the Efficiency Maine Trust office\, 168 Capitol Street\, Suite 1\, Augusta\, ME. Click here for the agenda.
URL:https://www.efficiencymaine.com/event/efficiency-maine-trust-board-meeting-18/
END:VEVENT
END:VCALENDAR